BEGIN:VCALENDAR
VERSION:2.0
PRODID:-//Geschwister Scholl Realschule plus - ECPv6.15.20//NONSGML v1.0//EN
CALSCALE:GREGORIAN
METHOD:PUBLISH
X-ORIGINAL-URL:https://gsr-andernach.de
X-WR-CALDESC:Veranstaltungen für Geschwister Scholl Realschule plus
REFRESH-INTERVAL;VALUE=DURATION:PT1H
X-Robots-Tag:noindex
X-PUBLISHED-TTL:PT1H
BEGIN:VTIMEZONE
TZID:UTC
BEGIN:STANDARD
TZOFFSETFROM:+0000
TZOFFSETTO:+0000
TZNAME:UTC
DTSTART:20250101T000000
END:STANDARD
END:VTIMEZONE
BEGIN:VEVENT
DTSTART;VALUE=DATE:20260605
DTEND;VALUE=DATE:20260606
DTSTAMP:20260421T132333
CREATED:20250827T143458Z
LAST-MODIFIED:20250827T143458Z
UID:10022-1780617600-1780703999@gsr-andernach.de
SUMMARY:Beweglicher Ferientag
DESCRIPTION:
URL:https://gsr-andernach.de/termine/beweglicher-ferientag-6/
END:VEVENT
BEGIN:VEVENT
DTSTART;VALUE=DATE:20260619
DTEND;VALUE=DATE:20260620
DTSTAMP:20260421T132333
CREATED:20250827T143824Z
LAST-MODIFIED:20250827T143824Z
UID:10024-1781827200-1781913599@gsr-andernach.de
SUMMARY:Schulentlassfeier
DESCRIPTION:
URL:https://gsr-andernach.de/termine/schulentlassfeier-2/
END:VEVENT
BEGIN:VEVENT
DTSTART;VALUE=DATE:20260626
DTEND;VALUE=DATE:20260627
DTSTAMP:20260421T132333
CREATED:20250827T145719Z
LAST-MODIFIED:20250827T145719Z
UID:10064-1782432000-1782518399@gsr-andernach.de
SUMMARY:Jahreszeugnisse
DESCRIPTION:
URL:https://gsr-andernach.de/termine/jahreszeugnisse/
END:VEVENT
BEGIN:VEVENT
DTSTART;VALUE=DATE:20260629
DTEND;VALUE=DATE:20260808
DTSTAMP:20260421T132333
CREATED:20250827T145640Z
LAST-MODIFIED:20250827T145640Z
UID:10062-1782691200-1786147199@gsr-andernach.de
SUMMARY:Sommerferien
DESCRIPTION:
URL:https://gsr-andernach.de/termine/sommerferien-2/
END:VEVENT
END:VCALENDAR