BEGIN:VCALENDAR
VERSION:2.0
PRODID:-//Geschwister Scholl Realschule plus - ECPv6.15.20//NONSGML v1.0//EN
CALSCALE:GREGORIAN
METHOD:PUBLISH
X-ORIGINAL-URL:https://gsr-andernach.de
X-WR-CALDESC:Veranstaltungen für Geschwister Scholl Realschule plus
REFRESH-INTERVAL;VALUE=DURATION:PT1H
X-Robots-Tag:noindex
X-PUBLISHED-TTL:PT1H
BEGIN:VTIMEZONE
TZID:UTC
BEGIN:STANDARD
TZOFFSETFROM:+0000
TZOFFSETTO:+0000
TZNAME:UTC
DTSTART:20240101T000000
END:STANDARD
END:VTIMEZONE
BEGIN:VEVENT
DTSTART;VALUE=DATE:20260330
DTEND;VALUE=DATE:20260411
DTSTAMP:20260421T114145
CREATED:20250827T145533Z
LAST-MODIFIED:20250827T145533Z
UID:10060-1774828800-1775865599@gsr-andernach.de
SUMMARY:Osterferien
DESCRIPTION:
URL:https://gsr-andernach.de/termine/osterferien-2/
END:VEVENT
BEGIN:VEVENT
DTSTART;VALUE=DATE:20260320
DTEND;VALUE=DATE:20260329
DTSTAMP:20260421T114145
CREATED:20250827T143949Z
LAST-MODIFIED:20250827T143949Z
UID:10026-1773964800-1774742399@gsr-andernach.de
SUMMARY:Ski-Exkursion
DESCRIPTION:
URL:https://gsr-andernach.de/termine/ski-exkursion/
END:VEVENT
BEGIN:VEVENT
DTSTART;TZID=UTC:20260227T083000
DTEND;TZID=UTC:20260227T123000
DTSTAMP:20260421T114145
CREATED:20251124T133605Z
LAST-MODIFIED:20251124T133605Z
UID:10197-1772181000-1772195400@gsr-andernach.de
SUMMARY:Anmeldung Stufe 5
DESCRIPTION:
URL:https://gsr-andernach.de/termine/anmeldung-stufe-5-12/
END:VEVENT
BEGIN:VEVENT
DTSTART;TZID=UTC:20260226T140000
DTEND;TZID=UTC:20260226T180000
DTSTAMP:20260421T114145
CREATED:20251124T133540Z
LAST-MODIFIED:20251124T133540Z
UID:10195-1772114400-1772128800@gsr-andernach.de
SUMMARY:Anmeldung Stufe 5
DESCRIPTION:
URL:https://gsr-andernach.de/termine/anmeldung-stufe-5-11/
END:VEVENT
BEGIN:VEVENT
DTSTART;TZID=UTC:20260226T083000
DTEND;TZID=UTC:20260226T123000
DTSTAMP:20260421T114145
CREATED:20251124T133513Z
LAST-MODIFIED:20251124T133513Z
UID:10193-1772094600-1772109000@gsr-andernach.de
SUMMARY:Anmeldung Stufe 5
DESCRIPTION:
URL:https://gsr-andernach.de/termine/anmeldung-stufe-5-10/
END:VEVENT
BEGIN:VEVENT
DTSTART;TZID=UTC:20260225T083000
DTEND;TZID=UTC:20260225T123000
DTSTAMP:20260421T114145
CREATED:20251124T133447Z
LAST-MODIFIED:20251124T133447Z
UID:10191-1772008200-1772022600@gsr-andernach.de
SUMMARY:Anmeldung Stufe 5
DESCRIPTION:
URL:https://gsr-andernach.de/termine/anmeldung-stufe-5-9/
END:VEVENT
BEGIN:VEVENT
DTSTART;TZID=UTC:20260224T083000
DTEND;TZID=UTC:20260224T123000
DTSTAMP:20260421T114145
CREATED:20251124T133416Z
LAST-MODIFIED:20251124T133416Z
UID:10189-1771921800-1771936200@gsr-andernach.de
SUMMARY:Anmeldung Stufe 5
DESCRIPTION:
URL:https://gsr-andernach.de/termine/anmeldung-stufe-5-8/
END:VEVENT
BEGIN:VEVENT
DTSTART;TZID=UTC:20260223T083000
DTEND;TZID=UTC:20260223T123000
DTSTAMP:20260421T114145
CREATED:20251124T133347Z
LAST-MODIFIED:20251124T133347Z
UID:10187-1771835400-1771849800@gsr-andernach.de
SUMMARY:Anmeldung Stufe 5
DESCRIPTION:
URL:https://gsr-andernach.de/termine/anmeldung-stufe-5-7/
END:VEVENT
BEGIN:VEVENT
DTSTART;VALUE=DATE:20260218
DTEND;VALUE=DATE:20260219
DTSTAMP:20260421T114145
CREATED:20250827T143314Z
LAST-MODIFIED:20250827T143314Z
UID:10018-1771372800-1771459199@gsr-andernach.de
SUMMARY:Beweglicher Ferientag
DESCRIPTION:
URL:https://gsr-andernach.de/termine/beweglicher-ferientag-4/
END:VEVENT
BEGIN:VEVENT
DTSTART;VALUE=DATE:20260217
DTEND;VALUE=DATE:20260218
DTSTAMP:20260421T114145
CREATED:20250827T143043Z
LAST-MODIFIED:20250827T143043Z
UID:10016-1771286400-1771372799@gsr-andernach.de
SUMMARY:Beweglicher Ferientag
DESCRIPTION:
URL:https://gsr-andernach.de/termine/beweglicher-ferientag-3/
END:VEVENT
BEGIN:VEVENT
DTSTART;VALUE=DATE:20260216
DTEND;VALUE=DATE:20260217
DTSTAMP:20260421T114145
CREATED:20250827T143010Z
LAST-MODIFIED:20250827T143010Z
UID:10014-1771200000-1771286399@gsr-andernach.de
SUMMARY:Beweglicher Ferientag
DESCRIPTION:
URL:https://gsr-andernach.de/termine/beweglicher-ferientag-2/
END:VEVENT
BEGIN:VEVENT
DTSTART;VALUE=DATE:20260213
DTEND;VALUE=DATE:20260214
DTSTAMP:20260421T114145
CREATED:20250827T142932Z
LAST-MODIFIED:20250827T142932Z
UID:10012-1770940800-1771027199@gsr-andernach.de
SUMMARY:Beweglicher Ferientag
DESCRIPTION:
URL:https://gsr-andernach.de/termine/beweglicher-ferientag/
END:VEVENT
BEGIN:VEVENT
DTSTART;VALUE=DATE:20260212
DTEND;VALUE=DATE:20260213
DTSTAMP:20260421T114145
CREATED:20251124T132855Z
LAST-MODIFIED:20251124T132855Z
UID:10170-1770854400-1770940799@gsr-andernach.de
SUMMARY:unterrichtsfrei
DESCRIPTION:
URL:https://gsr-andernach.de/termine/unterrichtsfrei/
END:VEVENT
BEGIN:VEVENT
DTSTART;TZID=UTC:20260206T083000
DTEND;TZID=UTC:20260206T123000
DTSTAMP:20260421T114145
CREATED:20251124T133317Z
LAST-MODIFIED:20251124T133317Z
UID:10185-1770366600-1770381000@gsr-andernach.de
SUMMARY:Anmeldung Stufe 5
DESCRIPTION:
URL:https://gsr-andernach.de/termine/anmeldung-stufe-5-6/
END:VEVENT
BEGIN:VEVENT
DTSTART;TZID=UTC:20260205T140000
DTEND;TZID=UTC:20260205T180000
DTSTAMP:20260421T114145
CREATED:20251124T133249Z
LAST-MODIFIED:20251124T133249Z
UID:10183-1770300000-1770314400@gsr-andernach.de
SUMMARY:Anmeldung Stufe 5
DESCRIPTION:
URL:https://gsr-andernach.de/termine/anmeldung-stufe-5-5/
END:VEVENT
BEGIN:VEVENT
DTSTART;TZID=UTC:20260205T083000
DTEND;TZID=UTC:20260205T123000
DTSTAMP:20260421T114145
CREATED:20251124T133217Z
LAST-MODIFIED:20251124T133217Z
UID:10181-1770280200-1770294600@gsr-andernach.de
SUMMARY:Anmeldung Stufe 5
DESCRIPTION:
URL:https://gsr-andernach.de/termine/anmeldung-stufe-5-4/
END:VEVENT
BEGIN:VEVENT
DTSTART;TZID=UTC:20260204T083000
DTEND;TZID=UTC:20260204T123000
DTSTAMP:20260421T114145
CREATED:20251124T133148Z
LAST-MODIFIED:20251124T133148Z
UID:10179-1770193800-1770208200@gsr-andernach.de
SUMMARY:Anmeldung Stufe 5
DESCRIPTION:
URL:https://gsr-andernach.de/termine/anmeldung-stufe-5-3/
END:VEVENT
BEGIN:VEVENT
DTSTART;TZID=UTC:20260203T083000
DTEND;TZID=UTC:20260203T123000
DTSTAMP:20260421T114145
CREATED:20251124T133121Z
LAST-MODIFIED:20251124T133121Z
UID:10177-1770107400-1770121800@gsr-andernach.de
SUMMARY:Anmeldung Stufe 5
DESCRIPTION:
URL:https://gsr-andernach.de/termine/anmeldung-stufe-5-2/
END:VEVENT
BEGIN:VEVENT
DTSTART;TZID=UTC:20260202T083000
DTEND;TZID=UTC:20260202T123000
DTSTAMP:20260421T114145
CREATED:20251128T065343Z
LAST-MODIFIED:20251128T065343Z
UID:10200-1770021000-1770035400@gsr-andernach.de
SUMMARY:Anmeldung Stufe 5
DESCRIPTION:
URL:https://gsr-andernach.de/termine/anmeldung-stufe-5/
END:VEVENT
BEGIN:VEVENT
DTSTART;VALUE=DATE:20260202
DTEND;VALUE=DATE:20260203
DTSTAMP:20260421T114145
CREATED:20250827T144113Z
LAST-MODIFIED:20250827T144113Z
UID:10028-1769990400-1770076799@gsr-andernach.de
SUMMARY:unterrichtsfrei wegen Studientag des Kollegiums
DESCRIPTION:
URL:https://gsr-andernach.de/termine/unterrichtsfrei-wegen-studientag-des-kollegiums/
END:VEVENT
BEGIN:VEVENT
DTSTART;VALUE=DATE:20260130
DTEND;VALUE=DATE:20260131
DTSTAMP:20260421T114145
CREATED:20250827T144159Z
LAST-MODIFIED:20250827T144159Z
UID:10030-1769731200-1769817599@gsr-andernach.de
SUMMARY:Halbjahreszeugnisse
DESCRIPTION:
URL:https://gsr-andernach.de/termine/halbjahreszeugnisse/
END:VEVENT
BEGIN:VEVENT
DTSTART;VALUE=DATE:20260119
DTEND;VALUE=DATE:20260130
DTSTAMP:20260421T114145
CREATED:20250827T144258Z
LAST-MODIFIED:20250827T144258Z
UID:10032-1768780800-1769731199@gsr-andernach.de
SUMMARY:Berufspraktikum der Klassen 9a\, b und e
DESCRIPTION:
URL:https://gsr-andernach.de/termine/berufspraktikum-der-klassen-9a-b-und-e/
END:VEVENT
BEGIN:VEVENT
DTSTART;TZID=UTC:20260113T190000
DTEND;TZID=UTC:20260113T203000
DTSTAMP:20260421T114145
CREATED:20251124T132939Z
LAST-MODIFIED:20251124T132939Z
UID:10172-1768330800-1768336200@gsr-andernach.de
SUMMARY:Informationsabend Ganztagsschule
DESCRIPTION:
URL:https://gsr-andernach.de/termine/informationsabend-ganztagsschule/
END:VEVENT
BEGIN:VEVENT
DTSTART;VALUE=DATE:20251222
DTEND;VALUE=DATE:20260108
DTSTAMP:20260421T114145
CREATED:20250827T145458Z
LAST-MODIFIED:20250827T145458Z
UID:10058-1766361600-1767830399@gsr-andernach.de
SUMMARY:Weihnachtsferien
DESCRIPTION:
URL:https://gsr-andernach.de/termine/weihnachtsferien/
END:VEVENT
BEGIN:VEVENT
DTSTART;VALUE=DATE:20251216
DTEND;VALUE=DATE:20251217
DTSTAMP:20260421T114145
CREATED:20250827T144351Z
LAST-MODIFIED:20250827T144351Z
UID:10034-1765843200-1765929599@gsr-andernach.de
SUMMARY:Weihnachtliche Feierstunde der Klassen 5
DESCRIPTION:
URL:https://gsr-andernach.de/termine/weihnachtliche-feierstunde-der-klassen-5/
END:VEVENT
BEGIN:VEVENT
DTSTART;VALUE=DATE:20251211
DTEND;VALUE=DATE:20251212
DTSTAMP:20260421T114145
CREATED:20250827T144433Z
LAST-MODIFIED:20250827T144433Z
UID:10036-1765411200-1765497599@gsr-andernach.de
SUMMARY:Vorlesewettbewerb der Stufe 6
DESCRIPTION:
URL:https://gsr-andernach.de/termine/vorlesewettbewerb-der-stufe-6/
END:VEVENT
BEGIN:VEVENT
DTSTART;VALUE=DATE:20251209
DTEND;VALUE=DATE:20251210
DTSTAMP:20260421T114145
CREATED:20251120T080044Z
LAST-MODIFIED:20251120T080044Z
UID:10127-1765238400-1765324799@gsr-andernach.de
SUMMARY:unterrichtsfrei wegen Studientag des Kollegiums
DESCRIPTION:
URL:https://gsr-andernach.de/termine/unterrichtsfrei-wegen-studientag-des-kollegiums-2/
END:VEVENT
BEGIN:VEVENT
DTSTART;TZID=UTC:20251128T083000
DTEND;TZID=UTC:20251128T130000
DTSTAMP:20260421T114145
CREATED:20250827T144641Z
LAST-MODIFIED:20250827T144641Z
UID:10040-1764318600-1764334800@gsr-andernach.de
SUMMARY:Elternsprechtag
DESCRIPTION:
URL:https://gsr-andernach.de/termine/elternsprechtag-3/
END:VEVENT
BEGIN:VEVENT
DTSTART;TZID=UTC:20251127T143000
DTEND;TZID=UTC:20251127T190000
DTSTAMP:20260421T114145
CREATED:20250827T144602Z
LAST-MODIFIED:20250827T144602Z
UID:10038-1764253800-1764270000@gsr-andernach.de
SUMMARY:Elternsprechtag
DESCRIPTION:
URL:https://gsr-andernach.de/termine/elternsprechtag-2/
END:VEVENT
BEGIN:VEVENT
DTSTART;TZID=UTC:20251122T080000
DTEND;TZID=UTC:20251122T130000
DTSTAMP:20260421T114145
CREATED:20250827T144724Z
LAST-MODIFIED:20251112T104319Z
UID:10042-1763798400-1763816400@gsr-andernach.de
SUMMARY:Tag der offenen Tür für Grundschulkinder
DESCRIPTION:
URL:https://gsr-andernach.de/termine/tag-der-offenen-tuer/
END:VEVENT
END:VCALENDAR