BEGIN:VCALENDAR
VERSION:2.0
PRODID:-//Geschwister Scholl Realschule plus - ECPv6.15.20//NONSGML v1.0//EN
CALSCALE:GREGORIAN
METHOD:PUBLISH
X-WR-CALNAME:Geschwister Scholl Realschule plus
X-ORIGINAL-URL:https://gsr-andernach.de
X-WR-CALDESC:Veranstaltungen für Geschwister Scholl Realschule plus
REFRESH-INTERVAL;VALUE=DURATION:PT1H
X-Robots-Tag:noindex
X-PUBLISHED-TTL:PT1H
BEGIN:VTIMEZONE
TZID:UTC
BEGIN:STANDARD
TZOFFSETFROM:+0000
TZOFFSETTO:+0000
TZNAME:UTC
DTSTART:20250101T000000
END:STANDARD
END:VTIMEZONE
BEGIN:VEVENT
DTSTART;VALUE=DATE:20260619
DTEND;VALUE=DATE:20260620
DTSTAMP:20260421T145140
CREATED:20250827T143824Z
LAST-MODIFIED:20250827T143824Z
UID:10024-1781827200-1781913599@gsr-andernach.de
SUMMARY:Schulentlassfeier
DESCRIPTION:
URL:https://gsr-andernach.de/termine/schulentlassfeier-2/
END:VEVENT
END:VCALENDAR