BEGIN:VCALENDAR
VERSION:2.0
PRODID:-//Geschwister Scholl Realschule plus - ECPv6.15.20//NONSGML v1.0//EN
CALSCALE:GREGORIAN
METHOD:PUBLISH
X-ORIGINAL-URL:https://gsr-andernach.de
X-WR-CALDESC:Veranstaltungen für Geschwister Scholl Realschule plus
REFRESH-INTERVAL;VALUE=DURATION:PT1H
X-Robots-Tag:noindex
X-PUBLISHED-TTL:PT1H
BEGIN:VTIMEZONE
TZID:UTC
BEGIN:STANDARD
TZOFFSETFROM:+0000
TZOFFSETTO:+0000
TZNAME:UTC
DTSTART:20250101T000000
END:STANDARD
END:VTIMEZONE
BEGIN:VEVENT
DTSTART;TZID=UTC:20260206T083000
DTEND;TZID=UTC:20260206T123000
DTSTAMP:20260421T145606
CREATED:20251124T133317Z
LAST-MODIFIED:20251124T133317Z
UID:10185-1770366600-1770381000@gsr-andernach.de
SUMMARY:Anmeldung Stufe 5
DESCRIPTION:
URL:https://gsr-andernach.de/termine/anmeldung-stufe-5-6/
END:VEVENT
END:VCALENDAR