BEGIN:VCALENDAR
VERSION:2.0
PRODID:-//Geschwister Scholl Realschule plus - ECPv6.15.20//NONSGML v1.0//EN
CALSCALE:GREGORIAN
METHOD:PUBLISH
X-ORIGINAL-URL:https://gsr-andernach.de
X-WR-CALDESC:Veranstaltungen für Geschwister Scholl Realschule plus
REFRESH-INTERVAL;VALUE=DURATION:PT1H
X-Robots-Tag:noindex
X-PUBLISHED-TTL:PT1H
BEGIN:VTIMEZONE
TZID:UTC
BEGIN:STANDARD
TZOFFSETFROM:+0000
TZOFFSETTO:+0000
TZNAME:UTC
DTSTART:20250101T000000
END:STANDARD
END:VTIMEZONE
BEGIN:VEVENT
DTSTART;VALUE=DATE:20260119
DTEND;VALUE=DATE:20260130
DTSTAMP:20260421T145452
CREATED:20250827T144258Z
LAST-MODIFIED:20250827T144258Z
UID:10032-1768780800-1769731199@gsr-andernach.de
SUMMARY:Berufspraktikum der Klassen 9a\, b und e
DESCRIPTION:
URL:https://gsr-andernach.de/termine/berufspraktikum-der-klassen-9a-b-und-e/
END:VEVENT
END:VCALENDAR