BEGIN:VCALENDAR
VERSION:2.0
PRODID:-//Geschwister Scholl Realschule plus - ECPv6.15.20//NONSGML v1.0//EN
CALSCALE:GREGORIAN
METHOD:PUBLISH
X-WR-CALNAME:Geschwister Scholl Realschule plus
X-ORIGINAL-URL:https://gsr-andernach.de
X-WR-CALDESC:Veranstaltungen für Geschwister Scholl Realschule plus
REFRESH-INTERVAL;VALUE=DURATION:PT1H
X-Robots-Tag:noindex
X-PUBLISHED-TTL:PT1H
BEGIN:VTIMEZONE
TZID:UTC
BEGIN:STANDARD
TZOFFSETFROM:+0000
TZOFFSETTO:+0000
TZNAME:UTC
DTSTART:20250101T000000
END:STANDARD
END:VTIMEZONE
BEGIN:VEVENT
DTSTART;TZID=UTC:20260113T190000
DTEND;TZID=UTC:20260113T203000
DTSTAMP:20260421T162617
CREATED:20251124T132939Z
LAST-MODIFIED:20251124T132939Z
UID:10172-1768330800-1768336200@gsr-andernach.de
SUMMARY:Informationsabend Ganztagsschule
DESCRIPTION:
URL:https://gsr-andernach.de/termine/informationsabend-ganztagsschule/
END:VEVENT
END:VCALENDAR